BEGIN:VCALENDAR
VERSION:2.0
PRODID:-//Skypirates - ECPv6.15.18//NONSGML v1.0//EN
CALSCALE:GREGORIAN
METHOD:PUBLISH
X-WR-CALNAME:Skypirates
X-ORIGINAL-URL:https://sky-pirates.nl
X-WR-CALDESC:Evenementen voor Skypirates
REFRESH-INTERVAL;VALUE=DURATION:PT1H
X-Robots-Tag:noindex
X-PUBLISHED-TTL:PT1H
BEGIN:VTIMEZONE
TZID:Europe/Helsinki
BEGIN:DAYLIGHT
TZOFFSETFROM:+0200
TZOFFSETTO:+0300
TZNAME:EEST
DTSTART:20250330T010000
END:DAYLIGHT
BEGIN:STANDARD
TZOFFSETFROM:+0300
TZOFFSETTO:+0200
TZNAME:EET
DTSTART:20251026T010000
END:STANDARD
BEGIN:DAYLIGHT
TZOFFSETFROM:+0200
TZOFFSETTO:+0300
TZNAME:EEST
DTSTART:20260329T010000
END:DAYLIGHT
BEGIN:STANDARD
TZOFFSETFROM:+0300
TZOFFSETTO:+0200
TZNAME:EET
DTSTART:20261025T010000
END:STANDARD
BEGIN:DAYLIGHT
TZOFFSETFROM:+0200
TZOFFSETTO:+0300
TZNAME:EEST
DTSTART:20270328T010000
END:DAYLIGHT
BEGIN:STANDARD
TZOFFSETFROM:+0300
TZOFFSETTO:+0200
TZNAME:EET
DTSTART:20271031T010000
END:STANDARD
END:VTIMEZONE
BEGIN:VEVENT
DTSTART;VALUE=DATE:20260423
DTEND;VALUE=DATE:20260427
DTSTAMP:20260424T150502
CREATED:20251126T143348Z
LAST-MODIFIED:20251126T145816Z
UID:13967-1776902400-1777247999@sky-pirates.nl
SUMMARY:Kitefestival Berck sur Mer (Fr)
DESCRIPTION:
URL:https://sky-pirates.nl/event/kitefestival-berck-sur-mer-fr-2/
LOCATION:Berck sur mer\, Berck sur Mer\, France
ATTACH;FMTTYPE=image/jpeg:https://sky-pirates.nl/wp-content/uploads/2025/11/Berck-sur-mer-affiche-2026.jpg
END:VEVENT
BEGIN:VEVENT
DTSTART;VALUE=DATE:20260502
DTEND;VALUE=DATE:20260504
DTSTAMP:20260424T150502
CREATED:20251126T145416Z
LAST-MODIFIED:20251126T145738Z
UID:13981-1777680000-1777852799@sky-pirates.nl
SUMMARY:Vliegerfestival Valkenswaard
DESCRIPTION:
URL:https://sky-pirates.nl/event/vliegerfestival-valkenswaard-4/
LOCATION:Valkenswaard\, Netherlands
ATTACH;FMTTYPE=image/jpeg:https://sky-pirates.nl/wp-content/uploads/2025/11/IMG_9338-scaled.jpg
END:VEVENT
BEGIN:VEVENT
DTSTART;VALUE=DATE:20260613
DTEND;VALUE=DATE:20260621
DTSTAMP:20260424T150502
CREATED:20251126T144309Z
LAST-MODIFIED:20251126T145713Z
UID:13972-1781308800-1781999999@sky-pirates.nl
SUMMARY:Fano (Dk)
DESCRIPTION:
URL:https://sky-pirates.nl/event/fano-dk/
LOCATION:Fano\, Denmark
ATTACH;FMTTYPE=image/jpeg:https://sky-pirates.nl/wp-content/uploads/2025/11/Fano.jpg
END:VEVENT
BEGIN:VEVENT
DTSTART;VALUE=DATE:20260815
DTEND;VALUE=DATE:20260817
DTSTAMP:20260424T150502
CREATED:20251126T144645Z
LAST-MODIFIED:20251126T145610Z
UID:13975-1786752000-1786924799@sky-pirates.nl
SUMMARY:16e Rijsbergse Vliegerdagen
DESCRIPTION:
URL:https://sky-pirates.nl/event/16e-rijsbergse-vliegerdagen/
LOCATION:Rijsbergen\, in het dorp\, Rijsbergen\, Noord Brabant\, 4891\, Nederland
ATTACH;FMTTYPE=image/jpeg:https://sky-pirates.nl/wp-content/uploads/2025/11/013-Marieke-Hanegraaf-012-scaled.jpg
END:VEVENT
END:VCALENDAR